BEGIN:VCALENDAR
VERSION:2.0
PRODID:icalendar-ruby
CALSCALE:GREGORIAN
BEGIN:VTIMEZONE
TZID:America/New_York
BEGIN:DAYLIGHT
DTSTART:20260308T030000
TZOFFSETFROM:-0500
TZOFFSETTO:-0400
RRULE:FREQ=YEARLY;BYDAY=2SU;BYMONTH=3
TZNAME:EDT
END:DAYLIGHT
BEGIN:STANDARD
DTSTART:20261101T010000
TZOFFSETFROM:-0400
TZOFFSETTO:-0500
RRULE:FREQ=YEARLY;BYDAY=1SU;BYMONTH=11
TZNAME:EST
END:STANDARD
END:VTIMEZONE
BEGIN:VEVENT
DTSTAMP:20260420T093846Z
UID:https://coastalneighbors.helpfulvillage.com/events/1411
DTSTART;TZID=America/New_York:20260502T100000
DTEND;TZID=America/New_York:20260502T130000
CLASS:PRIVATE
CREATED:20260416T101044
DESCRIPTION:
LAST-MODIFIED:20260416T101335
LOCATION:Southworth Library\, 732 Dartmouth Street\, Dartmouth\, MA 02748
SUMMARY:Village event: Friends of the Dartmouth Libraries Annual Spring Boo
 ksale
URL;VALUE=URI:https://coastalneighbors.helpfulvillage.com/events/1411
END:VEVENT
END:VCALENDAR
